BEGIN:VCALENDAR
VERSION:2.0
PRODID:-//ChamberMaster//Event Calendar 2.0//EN
METHOD:PUBLISH
X-PUBLISHED-TTL:P3D
REFRESH-INTERVAL:P3D
CALSCALE:GREGORIAN
BEGIN:VEVENT
DTSTART:20260425T113000Z
DTEND:20260425T170000Z
X-MICROSOFT-CDO-ALLDAYEVENT:FALSE
SUMMARY:10th Annual Race to End Racism
DESCRIPTION:10th Annual Race to End Racism - register today at ywcacharleston.org/race\n\nJoin us for a milestone moment as the Race to End Racism marks its 10th year bringing Charleston together in the name of unity\, equity\, and justice.\n\nChoose your pace   a 5K run or a 1-mile walk   and join participants of all ages and abilities in taking a visible\, meaningful stand against racism. Every step supports education\, advocacy\, and action toward a more just and inclusive community.\n\nThen stay and celebrate. Following the race\, join us along the BLVD for food trucks\, DJs\, and community fellowship as we honor 100 years of Black History Month.\n\nRun\, walk\, cheer   and come together for a celebration where purpose meets community.
X-ALT-DESC;FMTTYPE=text/html:<p>10th Annual Race to End Racism - register today at ywcacharleston.org/race</p>\n\n<p>Join us for a milestone moment as the Race to End Racism marks its 10th year bringing Charleston together in the name of unity\, equity\, and justice.</p>\n\n<p>Choose your pace &mdash\; a 5K run or a 1-mile walk &mdash\; and join participants of all ages and abilities in taking a visible\, meaningful stand against racism. Every step supports education\, advocacy\, and action toward a more just and inclusive community.</p>\n\n<p>Then stay and celebrate. Following the race\, join us along the BLVD for food trucks\, DJs\, and community fellowship as we honor 100 years of Black History Month.</p>\n\n<p>Run\, walk\, cheer &mdash\; and come together for a celebration where purpose meets community.</p>\n
LOCATION:Magic Island and Kanawha BLVD.
UID:e.1499.6204
SEQUENCE:3
DTSTAMP:20260422T174348Z
URL:https://business.charlestonareaalliance.org/events/details/10th-annual-race-to-end-racism-6204
END:VEVENT

END:VCALENDAR
